BEGIN:VCALENDAR
VERSION:2.0
PRODID:-//ChamberMaster//Event Calendar 2.0//EN
METHOD:PUBLISH
X-PUBLISHED-TTL:P1H
REFRESH-INTERVAL:P1H
CALSCALE:GREGORIAN
BEGIN:VTIMEZONE
TZID:America/Montreal
BEGIN:DAYLIGHT
RRULE:FREQ=YEARLY;BYMONTH=3;BYDAY=2SU
DTSTART:20070101T000000
TZOFFSETFROM:-0500
TZOFFSETTO:-0400
TZNAME:Eastern Daylight Time
END:DAYLIGHT
BEGIN:STANDARD
RRULE:FREQ=YEARLY;BYMONTH=11;BYDAY=1SU
DTSTART:20070101T000000
TZOFFSETFROM:-0400
TZOFFSETTO:-0500
TZNAME:Eastern Standard Time
END:STANDARD
END:VTIMEZONE
BEGIN:VEVENT
DTSTART;TZID=America/Montreal:20260510T140000
DTEND;TZID=America/Montreal:20260510T160000
X-MICROSOFT-CDO-ALLDAYEVENT:FALSE
SUMMARY:Dungeons and Dragons
DESCRIPTION:A creative & inclusive campaign led by Stonington Pride\nHosted by & at the beautiful (& cozy) Bank Square Books!\n\nSecond Sunday of every month.\nGame begins at 2pm.Capped at 7 adventurers\, plus our skilled DM\, so registration is required to ensure your seat!  Please click the blue button to register!\n\nMust be at least 12 years old to participate\, to ensure a quality experience for all involved.BSB is wheelchair accessible.
X-ALT-DESC;FMTTYPE=text/html:<!DOCTYPE html><html><head><title></title></head><body aria-disabled="false"><p><meta charset="utf-8"></p><p><meta charset="utf-8"></p><p><meta charset="utf-8"></p><p><meta charset="utf-8"></p><p><meta charset="utf-8"></p><p><meta charset="utf-8"></p><p><meta charset="utf-8"></p><div style="box-sizing: border-box\; clear: none\; grid-column: 3 / 7\; color: rgb(64\, 64\, 64)\; font-family: Roboto\, arial\, helvetica\, sans-serif\; font-size: 20.25px\; font-style: normal\; font-variant-ligatures: normal\; font-variant-caps: normal\; font-weight: 400\; letter-spacing: normal\; orphans: 2\; text-align: start\; text-indent: 0px\; text-transform: none\; widows: 2\; word-spacing: 0px\; -webkit-text-stroke-width: 0px\; white-space: normal\; text-decoration-thickness: initial\; text-decoration-style: initial\; text-decoration-color: initial\;"><div style="box-sizing: border-box\; display: flex\; flex-flow: column\;"><div style="box-sizing: border-box\; font-size: 18px\; margin-block-end: 0px\;"><meta charset="utf-8"><div style="box-sizing: border-box\; clear: none\; grid-column: 3 / 7\; color: rgb(64\, 64\, 64)\; font-family: Roboto\, arial\, helvetica\, sans-serif\; font-size: 20.25px\; font-style: normal\; font-variant-ligatures: normal\; font-variant-caps: normal\; font-weight: 400\; letter-spacing: normal\; orphans: 2\; text-align: start\; text-indent: 0px\; text-transform: none\; widows: 2\; word-spacing: 0px\; -webkit-text-stroke-width: 0px\; white-space: normal\; text-decoration-thickness: initial\; text-decoration-style: initial\; text-decoration-color: initial\;"><div style="box-sizing: border-box\; display: flex\; flex-flow: column\;"><div style="box-sizing: border-box\; font-size: 18px\; margin-block-end: 0px\;"><meta charset="utf-8"><div style="box-sizing: border-box\; clear: none\; grid-column: 3 / 7\; color: rgb(64\, 64\, 64)\; font-family: Roboto\, arial\, helvetica\, sans-serif\; font-size: 20.25px\; font-style: normal\; font-variant-ligatures: normal\; font-variant-caps: normal\; font-weight: 400\; letter-spacing: normal\; orphans: 2\; text-align: start\; text-indent: 0px\; text-transform: none\; widows: 2\; word-spacing: 0px\; -webkit-text-stroke-width: 0px\; white-space: normal\; text-decoration-thickness: initial\; text-decoration-style: initial\; text-decoration-color: initial\;"><div style="box-sizing: border-box\; display: flex\; flex-flow: column\;"><div style="box-sizing: border-box\; font-size: 18px\; margin-block-end: 0px\;"><p style="box-sizing: border-box\; text-align: center\;"><strong fr-original-style="box-sizing: border-box\; font-weight: bolder\;" style="box-sizing: border-box\; font-weight: bolder\;">A creative &amp\; inclusive campaign led by Stonington Pride</strong><br style="box-sizing: border-box\;"><strong fr-original-style="box-sizing: border-box\; font-weight: bolder\;" style="box-sizing: border-box\; font-weight: bolder\;">Hosted by &amp\; at the beautiful (&amp\; cozy) Bank Square Books!</strong><br style="box-sizing: border-box\;"><br style="box-sizing: border-box\;"><strong fr-original-style="box-sizing: border-box\; font-weight: bolder\;" style="box-sizing: border-box\; font-weight: bolder\;">Second Sunday of every month.</strong><br style="box-sizing: border-box\;"><strong fr-original-style="box-sizing: border-box\; font-weight: bolder\;" style="box-sizing: border-box\; font-weight: bolder\;">Game begins at 2pm.</strong></p><p style="box-sizing: border-box\; text-align: center\;"><strong fr-original-style="box-sizing: border-box\; font-weight: bolder\;" style="box-sizing: border-box\; font-weight: bolder\;">Capped at 7 adventurers\, plus our skilled DM\, so registration is required to ensure your seat! &nbsp\;Please click the blue button to register!</strong><br style="box-sizing: border-box\;"><br style="box-sizing: border-box\;"><strong fr-original-style="box-sizing: border-box\; font-weight: bolder\;" style="box-sizing: border-box\; font-weight: bolder\;">Must be at least 12 years old to participate\, to ensure a quality experience for all involved.</strong></p><p style="box-sizing: border-box\; text-align: center\;"><strong fr-original-style="box-sizing: border-box\; font-weight: bolder\;" style="box-sizing: border-box\; font-weight: bolder\;">BSB is wheelchair accessible.</strong></p></div></div></div><div style="box-sizing: border-box\; grid-column: 8 / -1\; margin-block-start: 0px\; padding-inline-start: 0.5rem\; color: rgb(64\, 64\, 64)\; font-family: Roboto\, arial\, helvetica\, sans-serif\; font-size: 20.25px\; font-style: normal\; font-variant-ligatures: normal\; font-variant-caps: normal\; font-weight: 400\; letter-spacing: normal\; orphans: 2\; text-align: start\; text-indent: 0px\; text-transform: none\; widows: 2\; word-spacing: 0px\; -webkit-text-stroke-width: 0px\; white-space: normal\; text-decoration-thickness: initial\; text-decoration-style: initial\; text-decoration-color: initial\;"><div style="box-sizing: border-box\; display: block\; font-size: 16px\; inline-size: max-content\; margin-block-end: 10px\;"><br></div></div></div></div></div></div></div></div><div style="box-sizing: border-box\; grid-column: 8 / -1\; margin-block-start: 0px\; padding-inline-start: 0.5rem\; color: rgb(64\, 64\, 64)\; font-family: Roboto\, arial\, helvetica\, sans-serif\; font-size: 20.25px\; font-style: normal\; font-variant-ligatures: normal\; font-variant-caps: normal\; font-weight: 400\; letter-spacing: normal\; orphans: 2\; text-align: start\; text-indent: 0px\; text-transform: none\; widows: 2\; word-spacing: 0px\; -webkit-text-stroke-width: 0px\; white-space: normal\; text-decoration-thickness: initial\; text-decoration-style: initial\; text-decoration-color: initial\;"><br></div></body></html>
LOCATION:80 Stonington Road Suite 8 Mystic CT 06355
UID:e.2955.1446797
SEQUENCE:3
DTSTAMP:20260423T031013Z
URL:https://greatermysticchamberofcommercect.growthzoneapp.com/aiworkshop/Details/dungeons-and-dragons-1713607?sourceTypeId=Hub
END:VEVENT
END:VCALENDAR
