BEGIN:VCALENDAR
VERSION:2.0
PRODID:-//ChamberMaster//Event Calendar 2.0//EN
METHOD:PUBLISH
X-PUBLISHED-TTL:P1H
REFRESH-INTERVAL:P1H
CALSCALE:GREGORIAN
BEGIN:VTIMEZONE
TZID:America/Montreal
BEGIN:DAYLIGHT
RRULE:FREQ=YEARLY;BYMONTH=3;BYDAY=2SU
DTSTART:20070101T000000
TZOFFSETFROM:-0500
TZOFFSETTO:-0400
TZNAME:Eastern Daylight Time
END:DAYLIGHT
BEGIN:STANDARD
RRULE:FREQ=YEARLY;BYMONTH=11;BYDAY=1SU
DTSTART:20070101T000000
TZOFFSETFROM:-0400
TZOFFSETTO:-0500
TZNAME:Eastern Standard Time
END:STANDARD
END:VTIMEZONE
BEGIN:VEVENT
DTSTART;TZID=America/Montreal:20260530T110000
DTEND;TZID=America/Montreal:20260530T120000
X-MICROSOFT-CDO-ALLDAYEVENT:FALSE
SUMMARY:Elaine Alexander (Giant Cuttlefish) Storytime and Signing
DESCRIPTION:Join us as Elaine Alexander reads from her book\, Giant Cuttlefish: Chameleon of the Sea at our storytime event! Unable to attend this event\, but still want a signed copy?  Purchase the book below and specify your signing and personalization request in the order comments and we will do our best to accommodate the request.Please click the RSVP button to let us know you'll be attending.About the BookPeering into the face of a giant cuttlefish is like gazing at a creature from another planet. Eight arms grow out of its head\, two suckered feeding tentacles shoot out from pouches below its eyes\, and a fearsome beak hooks its prey. In a blink\, the giant cuttlefish changes the color and texture of its skin. Blending into its surroundings\, the camouflaged fish evades predators\, tricks prey\, and throws rivals off-balance. With its otherworldly features\, superior eyesight\, and an ability to learn complex behavior\, this remarkable cephalopod has survived for 500 million years. Elaine M. Alexander and illustrator Mike Orod n give readers a clear and close-up look at the smartest and largest of all mollusks\, the rock star of the ocean\, the chameleon of the sea: the giant cuttlefish. Back matter includes brief explorations into its life cycle\, adaptations\, hunting behavior\, mating\, and threats to survival\, as well as a glossary and bibliography.About the AuthorElaine M. Alexander's first nonfiction book\, Anglerfish: The Seadevil of the Deep\, received both an SCBWI Barbara Karlin Grant and a Katherine Paterson Prize. It was nominated for a Nutmeg and was a Louisiana Book Choice selection and won the Cook Prize for Excellence in STEM Literature. A fan of dark mysteries and the natural world\, Elaine is fascinated by all things extraordinary and unique. She is currently a youth services librarian living with her family in Connecticut.
X-ALT-DESC;FMTTYPE=text/html:<!DOCTYPE html><html><head><title></title></head><body aria-disabled="false"><p><meta charset="utf-8"></p><p><meta charset="utf-8"></p><div style="box-sizing: border-box\; clear: none\; grid-column: 3 / 7\; color: rgb(64\, 64\, 64)\; font-family: Roboto\, arial\, helvetica\, sans-serif\; font-size: 20.25px\; font-style: normal\; font-variant-ligatures: normal\; font-variant-caps: normal\; font-weight: 400\; letter-spacing: normal\; orphans: 2\; text-align: start\; text-indent: 0px\; text-transform: none\; widows: 2\; word-spacing: 0px\; -webkit-text-stroke-width: 0px\; white-space: normal\; text-decoration-thickness: initial\; text-decoration-style: initial\; text-decoration-color: initial\;"><div style="box-sizing: border-box\; display: flex\; flex-flow: column\;"><div style="box-sizing: border-box\; font-size: 18px\; margin-block-end: 0px\;"><meta charset="utf-8"><div style="box-sizing: border-box\; clear: none\; grid-column: 3 / 7\; color: rgb(64\, 64\, 64)\; font-family: Roboto\, arial\, helvetica\, sans-serif\; font-size: 20.25px\; font-style: normal\; font-variant-ligatures: normal\; font-variant-caps: normal\; font-weight: 400\; letter-spacing: normal\; orphans: 2\; text-align: start\; text-indent: 0px\; text-transform: none\; widows: 2\; word-spacing: 0px\; -webkit-text-stroke-width: 0px\; white-space: normal\; text-decoration-thickness: initial\; text-decoration-style: initial\; text-decoration-color: initial\;"><div style="box-sizing: border-box\; display: flex\; flex-flow: column\;"><div style="box-sizing: border-box\; font-size: 18px\; margin-block-end: 0px\;"><meta charset="utf-8"><meta charset="utf-8"><div style="box-sizing: border-box\; clear: none\; grid-column: 3 / 7\; color: rgb(64\, 64\, 64)\; font-family: Roboto\, arial\, helvetica\, sans-serif\; font-size: 20.25px\; font-style: normal\; font-variant-ligatures: normal\; font-variant-caps: normal\; font-weight: 400\; letter-spacing: normal\; orphans: 2\; text-align: start\; text-indent: 0px\; text-transform: none\; widows: 2\; word-spacing: 0px\; -webkit-text-stroke-width: 0px\; white-space: normal\; text-decoration-thickness: initial\; text-decoration-style: initial\; text-decoration-color: initial\;"><div style="box-sizing: border-box\; display: flex\; flex-flow: column\;"><div style="box-sizing: border-box\; font-size: 18px\; margin-block-end: 0px\;"><meta charset="utf-8"><div style="box-sizing: border-box\; clear: none\; grid-column: 3 / 7\; color: rgb(64\, 64\, 64)\; font-family: Roboto\, arial\, helvetica\, sans-serif\; font-size: 20.25px\; font-style: normal\; font-variant-ligatures: normal\; font-variant-caps: normal\; font-weight: 400\; letter-spacing: normal\; orphans: 2\; text-align: start\; text-indent: 0px\; text-transform: none\; widows: 2\; word-spacing: 0px\; -webkit-text-stroke-width: 0px\; white-space: normal\; text-decoration-thickness: initial\; text-decoration-style: initial\; text-decoration-color: initial\;"><div style="box-sizing: border-box\; display: flex\; flex-flow: column\;"><div style="box-sizing: border-box\; font-size: 18px\; margin-block-end: 0px\;"><h4 style="box-sizing: border-box\; font-size: 24px\; font-weight: 700\; line-height: 1.6\; text-align: center\;"><strong fr-original-style="box-sizing: border-box\; font-weight: bolder\;" style="box-sizing: border-box\; font-weight: bolder\;">Join us as Elaine Alexander reads from her book\,&nbsp\;</strong><em style="box-sizing: border-box\;"><strong fr-original-style="box-sizing: border-box\; font-weight: bolder\;" style="box-sizing: border-box\; font-weight: bolder\;">Giant Cuttlefish: Chameleon of the Sea</strong></em><strong fr-original-style="box-sizing: border-box\; font-weight: bolder\;" style="box-sizing: border-box\; font-weight: bolder\;">&nbsp\;at our storytime event!&nbsp\;</strong></h4><p style="box-sizing: border-box\; text-align: center\;">Unable to attend this event\, but still want a signed copy? &nbsp\;Purchase the book below and specify your signing and personalization request in the order comments and we will do our best to accommodate the request.</p><p style="box-sizing: border-box\; text-align: center\;"><strong fr-original-style="box-sizing: border-box\; font-weight: bolder\;" style="box-sizing: border-box\; font-weight: bolder\;">Please click the RSVP button to let us know you&#39\;ll be attending.</strong></p><p style="box-sizing: border-box\;"><strong fr-original-style="box-sizing: border-box\; font-weight: bolder\;" style="box-sizing: border-box\; font-weight: bolder\;">About the Book</strong></p><p style="box-sizing: border-box\;">Peering into the face of a giant cuttlefish is like gazing at a creature from another planet. Eight arms grow out of its head\, two suckered feeding tentacles shoot out from pouches below its eyes\, and a fearsome beak hooks its prey. In a blink\, the giant cuttlefish changes the color and texture of its skin. Blending into its surroundings\, the camouflaged fish evades predators\, tricks prey\, and throws rivals off-balance. With its otherworldly features\, superior eyesight\, and an ability to learn complex behavior\, this remarkable cephalopod has survived for 500 million years. Elaine M. Alexander and illustrator Mike Orod&aacute\;n give readers a clear and close-up look at the smartest and largest of all mollusks\, the rock star of the ocean\, the chameleon of the sea: the giant cuttlefish. Back matter includes brief explorations into its life cycle\, adaptations\, hunting behavior\, mating\, and threats to survival\, as well as a glossary and bibliography.</p><p style="box-sizing: border-box\;"><strong fr-original-style="box-sizing: border-box\; font-weight: bolder\;" style="box-sizing: border-box\; font-weight: bolder\;">About the Author</strong></p><p style="box-sizing: border-box\;"><strong fr-original-style="box-sizing: border-box\; font-weight: bolder\;" style="box-sizing: border-box\; font-weight: bolder\;">Elaine M. Alexander</strong>&#39\;s first nonfiction book\,&nbsp\;<em style="box-sizing: border-box\;">Anglerfish: The Seadevil of the Deep</em>\, received both an SCBWI Barbara Karlin Grant and a Katherine Paterson Prize. It was nominated for a Nutmeg and was a Louisiana Book Choice selection and won the Cook Prize for Excellence in STEM Literature. A fan of dark mysteries and the natural world\, Elaine is fascinated by all things extraordinary and unique. She is currently a youth services librarian living with her family in Connecticut.</p></div></div></div><div style="box-sizing: border-box\; grid-column: 8 / -1\; margin-block-start: 0px\; padding-inline-start: 0.5rem\; color: rgb(64\, 64\, 64)\; font-family: Roboto\, arial\, helvetica\, sans-serif\; font-size: 20.25px\; font-style: normal\; font-variant-ligatures: normal\; font-variant-caps: normal\; font-weight: 400\; letter-spacing: normal\; orphans: 2\; text-align: start\; text-indent: 0px\; text-transform: none\; widows: 2\; word-spacing: 0px\; -webkit-text-stroke-width: 0px\; white-space: normal\; text-decoration-thickness: initial\; text-decoration-style: initial\; text-decoration-color: initial\;"><div style="box-sizing: border-box\; display: block\; font-size: 16px\; inline-size: max-content\; margin-block-end: 10px\;"><br></div></div></div></div></div></div></div></div></div></div></div><div style="box-sizing: border-box\; grid-column: 8 / -1\; margin-block-start: 0px\; padding-inline-start: 0.5rem\; color: rgb(64\, 64\, 64)\; font-family: Roboto\, arial\, helvetica\, sans-serif\; font-size: 20.25px\; font-style: normal\; font-variant-ligatures: normal\; font-variant-caps: normal\; font-weight: 400\; letter-spacing: normal\; orphans: 2\; text-align: start\; text-indent: 0px\; text-transform: none\; widows: 2\; word-spacing: 0px\; -webkit-text-stroke-width: 0px\; white-space: normal\; text-decoration-thickness: initial\; text-decoration-style: initial\; text-decoration-color: initial\;"><br></div></body></html>
LOCATION:80 Stonington Road Suite 8 Mystic CT 06355
UID:e.2955.1446809
SEQUENCE:3
DTSTAMP:20260423T031509Z
URL:https://greatermysticchamberofcommercect.growthzoneapp.com/aiworkshop/Details/elaine-alexander-giant-cuttlefish-storytime-and-signing-1713619?sourceTypeId=Hub
END:VEVENT
END:VCALENDAR
