BEGIN:VCALENDAR
VERSION:2.0
PRODID:-//ChamberMaster//Event Calendar 2.0//EN
METHOD:PUBLISH
X-PUBLISHED-TTL:P1H
REFRESH-INTERVAL:P1H
CALSCALE:GREGORIAN
BEGIN:VTIMEZONE
TZID:America/Montreal
BEGIN:DAYLIGHT
RRULE:FREQ=YEARLY;BYMONTH=3;BYDAY=2SU
DTSTART:20070101T000000
TZOFFSETFROM:-0500
TZOFFSETTO:-0400
TZNAME:Eastern Daylight Time
END:DAYLIGHT
BEGIN:STANDARD
RRULE:FREQ=YEARLY;BYMONTH=11;BYDAY=1SU
DTSTART:20070101T000000
TZOFFSETFROM:-0400
TZOFFSETTO:-0500
TZNAME:Eastern Standard Time
END:STANDARD
END:VTIMEZONE
BEGIN:VEVENT
DTSTART;TZID=America/Montreal:20260511T163000
DTEND;TZID=America/Montreal:20260511T173000
X-MICROSOFT-CDO-ALLDAYEVENT:FALSE
SUMMARY:The Circle at the Square Book Club Discusses The River is Waiting by Wally Lamb
DESCRIPTION:This month\, Circle at the Square Book Club meets in person to discuss The River is Waiting by Wally Lamb.Interested in joining? Email Sherry Fritzsche at sbfritzsche@gmail.com
X-ALT-DESC;FMTTYPE=text/html:<!DOCTYPE html><html><head><title></title></head><body aria-disabled="false"><p><meta charset="utf-8"></p><p><meta charset="utf-8"></p><p><meta charset="utf-8"></p><p><meta charset="utf-8"></p><p><meta charset="utf-8"></p><p><meta charset="utf-8"></p><p><meta charset="utf-8"></p><div style="box-sizing: border-box\; clear: none\; grid-column: 3 / 7\; color: rgb(64\, 64\, 64)\; font-family: Roboto\, arial\, helvetica\, sans-serif\; font-size: 20.25px\; font-style: normal\; font-variant-ligatures: normal\; font-variant-caps: normal\; font-weight: 400\; letter-spacing: normal\; orphans: 2\; text-align: start\; text-indent: 0px\; text-transform: none\; widows: 2\; word-spacing: 0px\; -webkit-text-stroke-width: 0px\; white-space: normal\; text-decoration-thickness: initial\; text-decoration-style: initial\; text-decoration-color: initial\;"><div style="box-sizing: border-box\; display: flex\; flex-flow: column\;"><div style="box-sizing: border-box\; font-size: 18px\; margin-block-end: 0px\;"><meta charset="utf-8"><div style="box-sizing: border-box\; clear: none\; grid-column: 3 / 7\; color: rgb(64\, 64\, 64)\; font-family: Roboto\, arial\, helvetica\, sans-serif\; font-size: 20.25px\; font-style: normal\; font-variant-ligatures: normal\; font-variant-caps: normal\; font-weight: 400\; letter-spacing: normal\; orphans: 2\; text-align: start\; text-indent: 0px\; text-transform: none\; widows: 2\; word-spacing: 0px\; -webkit-text-stroke-width: 0px\; white-space: normal\; text-decoration-thickness: initial\; text-decoration-style: initial\; text-decoration-color: initial\;"><div style="box-sizing: border-box\; display: flex\; flex-flow: column\;"><div style="box-sizing: border-box\; font-size: 18px\; margin-block-end: 0px\;"><meta charset="utf-8"><div style="box-sizing: border-box\; clear: none\; grid-column: 3 / 7\; color: rgb(64\, 64\, 64)\; font-family: Roboto\, arial\, helvetica\, sans-serif\; font-size: 20.25px\; font-style: normal\; font-variant-ligatures: normal\; font-variant-caps: normal\; font-weight: 400\; letter-spacing: normal\; orphans: 2\; text-align: start\; text-indent: 0px\; text-transform: none\; widows: 2\; word-spacing: 0px\; -webkit-text-stroke-width: 0px\; white-space: normal\; text-decoration-thickness: initial\; text-decoration-style: initial\; text-decoration-color: initial\;"><div style="box-sizing: border-box\; display: flex\; flex-flow: column\;"><div style="box-sizing: border-box\; font-size: 18px\; margin-block-end: 0px\;"><meta charset="utf-8"><div style="box-sizing: border-box\; clear: none\; grid-column: 3 / 7\; color: rgb(64\, 64\, 64)\; font-family: Roboto\, arial\, helvetica\, sans-serif\; font-size: 20.25px\; font-style: normal\; font-variant-ligatures: normal\; font-variant-caps: normal\; font-weight: 400\; letter-spacing: normal\; orphans: 2\; text-align: start\; text-indent: 0px\; text-transform: none\; widows: 2\; word-spacing: 0px\; -webkit-text-stroke-width: 0px\; white-space: normal\; text-decoration-thickness: initial\; text-decoration-style: initial\; text-decoration-color: initial\;"><div style="box-sizing: border-box\; display: flex\; flex-flow: column\;"><div style="box-sizing: border-box\; font-size: 18px\; margin-block-end: 0px\;"><h4 style="box-sizing: border-box\; font-size: 24px\; font-weight: 700\; line-height: 1.6\; text-align: center\;">This month\, Circle at the Square Book Club meets in person to discuss <em style="box-sizing: border-box\;">The River is Waiting&nbsp\;</em>by Wally Lamb.</h4><h4 style="box-sizing: border-box\; font-size: 24px\; font-weight: 700\; line-height: 1.6\; text-align: center\;">Interested in joining? Email Sherry Fritzsche at <a fr-original-style="box-sizing: border-box\; color: rgb(100\, 110\, 180)\; text-decoration: underline\;" href="mailto:sbfritzsche@gmail.com?subject=Circle%20at%20the%20Square%20Book%20Club" style="box-sizing: border-box\; color: rgb(100\, 110\, 180)\; text-decoration: underline\; user-select: auto\;">sbfritzsche@gmail.com</a>&nbsp\;</h4></div></div></div><div style="box-sizing: border-box\; grid-column: 8 / -1\; margin-block-start: 0px\; padding-inline-start: 0.5rem\; color: rgb(64\, 64\, 64)\; font-family: Roboto\, arial\, helvetica\, sans-serif\; font-size: 20.25px\; font-style: normal\; font-variant-ligatures: normal\; font-variant-caps: normal\; font-weight: 400\; letter-spacing: normal\; orphans: 2\; text-align: start\; text-indent: 0px\; text-transform: none\; widows: 2\; word-spacing: 0px\; -webkit-text-stroke-width: 0px\; white-space: normal\; text-decoration-thickness: initial\; text-decoration-style: initial\; text-decoration-color: initial\;"><div style="box-sizing: border-box\; display: block\; font-size: 16px\; inline-size: max-content\; margin-block-end: 10px\;"><br></div></div></div></div></div></div></div></div></div></div></div><div style="box-sizing: border-box\; grid-column: 8 / -1\; margin-block-start: 0px\; padding-inline-start: 0.5rem\; color: rgb(64\, 64\, 64)\; font-family: Roboto\, arial\, helvetica\, sans-serif\; font-size: 20.25px\; font-style: normal\; font-variant-ligatures: normal\; font-variant-caps: normal\; font-weight: 400\; letter-spacing: normal\; orphans: 2\; text-align: start\; text-indent: 0px\; text-transform: none\; widows: 2\; word-spacing: 0px\; -webkit-text-stroke-width: 0px\; white-space: normal\; text-decoration-thickness: initial\; text-decoration-style: initial\; text-decoration-color: initial\;"><br></div></body></html>
LOCATION:80 Stonington Road Suite 8 Mystic CT 06355
UID:e.2955.1446798
SEQUENCE:3
DTSTAMP:20260423T031550Z
URL:https://greatermysticchamberofcommercect.growthzoneapp.com/aiworkshop/Details/the-circle-at-the-square-book-club-discusses-the-river-is-waiting-by-wally-lamb-1713608?sourceTypeId=Hub
END:VEVENT
END:VCALENDAR
