BEGIN:VCALENDAR
VERSION:2.0
PRODID:-//ChamberMaster//Event Calendar 2.0//EN
METHOD:PUBLISH
X-PUBLISHED-TTL:P1H
REFRESH-INTERVAL:P1H
CALSCALE:GREGORIAN
BEGIN:VTIMEZONE
TZID:America/Montreal
BEGIN:DAYLIGHT
RRULE:FREQ=YEARLY;BYMONTH=3;BYDAY=2SU
DTSTART:20070101T000000
TZOFFSETFROM:-0500
TZOFFSETTO:-0400
TZNAME:Eastern Daylight Time
END:DAYLIGHT
BEGIN:STANDARD
RRULE:FREQ=YEARLY;BYMONTH=11;BYDAY=1SU
DTSTART:20070101T000000
TZOFFSETFROM:-0400
TZOFFSETTO:-0500
TZNAME:Eastern Standard Time
END:STANDARD
END:VTIMEZONE
BEGIN:VEVENT
DTSTART;TZID=America/Montreal:20260504T173000
DTEND;TZID=America/Montreal:20260504T183000
X-MICROSOFT-CDO-ALLDAYEVENT:FALSE
SUMMARY:The Queer Book Club Discusses Zami: A New Spelling of My Name by Audre Lorde
DESCRIPTION:A welcoming and inclusive space for LGBTQ+ readers and allies to explore diverse narratives and engage in lively discussions. Each month\, we delve into powerful stories that reflect and celebrate queer experiences\, fostering community and connection through the love of literature.This month's pick is Zami: A New Spelling of My Name by Audre Lorde.
X-ALT-DESC;FMTTYPE=text/html:<!DOCTYPE html><html><head><title></title></head><body aria-disabled="false"><p><meta charset="utf-8"></p><p><meta charset="utf-8"></p><p><meta charset="utf-8"></p><p><meta charset="utf-8"></p><p><meta charset="utf-8"></p><p><meta charset="utf-8"></p><h4 style="box-sizing: border-box\; font-size: 24px\; font-weight: 700\; line-height: 1.6\; text-align: center\; color: rgb(64\, 64\, 64)\; font-family: Roboto\, arial\, helvetica\, sans-serif\; font-style: normal\; font-variant-ligatures: normal\; font-variant-caps: normal\; letter-spacing: normal\; orphans: 2\; text-indent: 0px\; text-transform: none\; widows: 2\; word-spacing: 0px\; -webkit-text-stroke-width: 0px\; white-space: normal\; text-decoration-thickness: initial\; text-decoration-style: initial\; text-decoration-color: initial\;">A welcoming and inclusive space for LGBTQ+ readers and allies to explore diverse narratives and engage in lively discussions. Each month\, we delve into powerful stories that reflect and celebrate queer experiences\, fostering community and connection through the love of literature.</h4><h4 style="box-sizing: border-box\; font-size: 24px\; font-weight: 700\; line-height: 1.6\; text-align: center\; color: rgb(64\, 64\, 64)\; font-family: Roboto\, arial\, helvetica\, sans-serif\; font-style: normal\; font-variant-ligatures: normal\; font-variant-caps: normal\; letter-spacing: normal\; orphans: 2\; text-indent: 0px\; text-transform: none\; widows: 2\; word-spacing: 0px\; -webkit-text-stroke-width: 0px\; white-space: normal\; text-decoration-thickness: initial\; text-decoration-style: initial\; text-decoration-color: initial\;">This month&#39\;s pick is&nbsp\;<em style="box-sizing: border-box\;">Zami: A New Spelling of My Name&nbsp\;</em>by Audre Lorde.</h4></body></html>
LOCATION:80 Stonington Road Suite 8 Mystic CT 06355
UID:e.2955.1446793
SEQUENCE:3
DTSTAMP:20260423T031609Z
URL:https://greatermysticchamberofcommercect.growthzoneapp.com/aiworkshop/Details/the-queer-book-club-discusses-zami-a-new-spelling-of-my-name-by-audre-lorde-1713603?sourceTypeId=Hub
END:VEVENT
END:VCALENDAR
