BEGIN:VCALENDAR
VERSION:2.0
PRODID:-//ChamberMaster//Event Calendar 2.0//EN
METHOD:PUBLISH
X-PUBLISHED-TTL:P1H
REFRESH-INTERVAL:P1H
CALSCALE:GREGORIAN
BEGIN:VTIMEZONE
TZID:America/Montreal
BEGIN:DAYLIGHT
RRULE:FREQ=YEARLY;BYMONTH=3;BYDAY=2SU
DTSTART:20070101T000000
TZOFFSETFROM:-0500
TZOFFSETTO:-0400
TZNAME:Eastern Daylight Time
END:DAYLIGHT
BEGIN:STANDARD
RRULE:FREQ=YEARLY;BYMONTH=11;BYDAY=1SU
DTSTART:20070101T000000
TZOFFSETFROM:-0400
TZOFFSETTO:-0500
TZNAME:Eastern Standard Time
END:STANDARD
END:VTIMEZONE
BEGIN:VEVENT
DTSTART;TZID=America/Montreal:20260512T090000
DTEND;TZID=America/Montreal:20260512T110000
X-MICROSOFT-CDO-ALLDAYEVENT:FALSE
SUMMARY:Women at the Helm Committee Meeting
DESCRIPTION:This initiative brings together women from across the marine trades industry to foster meaningful connections\, exchange insights and experiences\, and support one another in developing leadership skills and advancing professionally. Together\, we strive to inspire\, empower\, and elevate one another while strengthening the presence and impact of women throughout our industry.\nWe are also excited to share that our first in-person gathering will take place on May 12th at 9:00 AM at Hammonasset Beach\, where we will participate in the Global Women's Walk 2026 in partnership with Soundings Trade Only.\nWe look forward to having you join us both virtually on April 20th and in person on May 12th for these meaningful opportunities to connect and make an impact.\nIf you are interested in participating\, please contact Rebekah Coffey
X-ALT-DESC;FMTTYPE=text/html:<!DOCTYPE html><html><head><title></title></head><body aria-disabled="false"><p><meta charset="utf-8"></p><p style="margin: 0px\; padding: 0px\; color: rgb(52\, 51\, 50)\; font-family: Arial\, Verdana\, Helvetica\, sans-serif\; font-size: 16px\; font-style: normal\; font-variant-ligatures: normal\; font-variant-caps: normal\; font-weight: 400\; letter-spacing: normal\; orphans: 2\; text-align: left\; text-indent: 0px\; text-transform: none\; widows: 2\; word-spacing: 0px\; -webkit-text-stroke-width: 0px\; white-space: normal\; background-color: rgb(255\, 255\, 255)\; text-decoration-thickness: initial\; text-decoration-style: initial\; text-decoration-color: initial\;"><span style="font-size: 14px\; font-weight: normal\;">This initiative brings together women from across the marine trades industry to foster meaningful connections\, exchange insights and experiences\, and support one another in developing leadership skills and advancing professionally. Together\, we strive to inspire\, empower\, and elevate one another while strengthening the presence and impact of women throughout our industry.</span></p><p style="margin: 0px\; padding: 0px\; color: rgb(52\, 51\, 50)\; font-family: Arial\, Verdana\, Helvetica\, sans-serif\; font-size: 16px\; font-style: normal\; font-variant-ligatures: normal\; font-variant-caps: normal\; font-weight: 400\; letter-spacing: normal\; orphans: 2\; text-align: left\; text-indent: 0px\; text-transform: none\; widows: 2\; word-spacing: 0px\; -webkit-text-stroke-width: 0px\; white-space: normal\; background-color: rgb(255\, 255\, 255)\; text-decoration-thickness: initial\; text-decoration-style: initial\; text-decoration-color: initial\;"><br></p><p style="margin: 0px\; padding: 0px\; color: rgb(52\, 51\, 50)\; font-family: Arial\, Verdana\, Helvetica\, sans-serif\; font-size: 16px\; font-style: normal\; font-variant-ligatures: normal\; font-variant-caps: normal\; font-weight: 400\; letter-spacing: normal\; orphans: 2\; text-align: left\; text-indent: 0px\; text-transform: none\; widows: 2\; word-spacing: 0px\; -webkit-text-stroke-width: 0px\; white-space: normal\; background-color: rgb(255\, 255\, 255)\; text-decoration-thickness: initial\; text-decoration-style: initial\; text-decoration-color: initial\;"><span style="font-size: 14px\; font-weight: normal\;">We are also excited to share that our first in-person gathering will take place on May 12th at 9:00 AM at Hammonasset Beach\, where we will participate in the&nbsp\;</span><a data-saferedirecturl="https://www.google.com/url?q=https://kqqffvhbb.cc.rs6.net/tn.jsp?f%3D001FVm1cgG1cfZXzbhmNwSVeAwOnVHW3nmacWhLCsT-Uor40GrjHKThEn2Sp2a6uo08_hgkrP7SlhjAKnf7YYaJw8gEC_z5oRlG8ekLfNkpQk97U4Ju3HVY1d4sl1KCdpKhBlMSLRdM0VRb7yCVqyMGe84EYRiMbxR1xMbHFIEf0A0Aznl6PodbzHISqTJRKgFGsrDQJ506WnXJF8C4MXrFLx2LxPCGAssrVvvSOzWBLhw%3D%26c%3D7DGuDUmVmHoA8oJMIh66pr02iMfHVIdkTkPx3g9oNu2_kd3qcj6m8w%3D%3D%26ch%3DbmQ3fqErHZbWCMmYa_gqO6LyFn90jhatzI8U_7KnLsfl_XQYUJ0bBw%3D%3D&source=gmail&ust=1776694323678000&usg=AOvVaw3qrHNhBkThoEQQN9GdZxNa" fr-original-style="color: rgb(44\, 116\, 255)\; text-decoration: none\; font-size: 14px\; font-weight: normal\;" href="https://kqqffvhbb.cc.rs6.net/tn.jsp?f=001FVm1cgG1cfZXzbhmNwSVeAwOnVHW3nmacWhLCsT-Uor40GrjHKThEn2Sp2a6uo08_hgkrP7SlhjAKnf7YYaJw8gEC_z5oRlG8ekLfNkpQk97U4Ju3HVY1d4sl1KCdpKhBlMSLRdM0VRb7yCVqyMGe84EYRiMbxR1xMbHFIEf0A0Aznl6PodbzHISqTJRKgFGsrDQJ506WnXJF8C4MXrFLx2LxPCGAssrVvvSOzWBLhw=&c=7DGuDUmVmHoA8oJMIh66pr02iMfHVIdkTkPx3g9oNu2_kd3qcj6m8w==&ch=bmQ3fqErHZbWCMmYa_gqO6LyFn90jhatzI8U_7KnLsfl_XQYUJ0bBw==" rel="noopener noreferrer" style="color: rgb(44\, 116\, 255)\; text-decoration: none\; font-size: 14px\; font-weight: normal\; user-select: auto\;" target="_blank">Global Women&#39\;s Walk 2026</a><span style="font-size: 14px\; font-weight: normal\;">&nbsp\;in partnership with Soundings Trade Only.</span></p><p style="margin: 0px\; padding: 0px\; color: rgb(52\, 51\, 50)\; font-family: Arial\, Verdana\, Helvetica\, sans-serif\; font-size: 16px\; font-style: normal\; font-variant-ligatures: normal\; font-variant-caps: normal\; font-weight: 400\; letter-spacing: normal\; orphans: 2\; text-align: left\; text-indent: 0px\; text-transform: none\; widows: 2\; word-spacing: 0px\; -webkit-text-stroke-width: 0px\; white-space: normal\; background-color: rgb(255\, 255\, 255)\; text-decoration-thickness: initial\; text-decoration-style: initial\; text-decoration-color: initial\;"><br></p><p style="margin: 0px\; padding: 0px\; color: rgb(52\, 51\, 50)\; font-family: Arial\, Verdana\, Helvetica\, sans-serif\; font-size: 16px\; font-style: normal\; font-variant-ligatures: normal\; font-variant-caps: normal\; font-weight: 400\; letter-spacing: normal\; orphans: 2\; text-align: left\; text-indent: 0px\; text-transform: none\; widows: 2\; word-spacing: 0px\; -webkit-text-stroke-width: 0px\; white-space: normal\; background-color: rgb(255\, 255\, 255)\; text-decoration-thickness: initial\; text-decoration-style: initial\; text-decoration-color: initial\;"><span style="font-size: 14px\; font-weight: normal\;">We look forward to having you join us&mdash\;both virtually on April 20th and in person on May 12th&mdash\;for these meaningful opportunities to connect and make an impact.</span></p><p style="margin: 0px\; padding: 0px\; color: rgb(52\, 51\, 50)\; font-family: Arial\, Verdana\, Helvetica\, sans-serif\; font-size: 16px\; font-style: normal\; font-variant-ligatures: normal\; font-variant-caps: normal\; font-weight: 400\; letter-spacing: normal\; orphans: 2\; text-align: left\; text-indent: 0px\; text-transform: none\; widows: 2\; word-spacing: 0px\; -webkit-text-stroke-width: 0px\; white-space: normal\; background-color: rgb(255\, 255\, 255)\; text-decoration-thickness: initial\; text-decoration-style: initial\; text-decoration-color: initial\;"><br></p><p style="margin: 0px\; padding: 0px\; color: rgb(52\, 51\, 50)\; font-family: Arial\, Verdana\, Helvetica\, sans-serif\; font-size: 16px\; font-style: normal\; font-variant-ligatures: normal\; font-variant-caps: normal\; font-weight: 400\; letter-spacing: normal\; orphans: 2\; text-align: left\; text-indent: 0px\; text-transform: none\; widows: 2\; word-spacing: 0px\; -webkit-text-stroke-width: 0px\; white-space: normal\; background-color: rgb(255\, 255\, 255)\; text-decoration-thickness: initial\; text-decoration-style: initial\; text-decoration-color: initial\;"><span style="font-size: 14px\;">If you are interested in participating\, please contact&nbsp\;</span><a fr-original-style="color: rgb(44\, 116\, 255)\; text-decoration: none\; font-size: 14px\; font-weight: bold\;" href="mailto:rebekah@ctmarinetrades.org" rel="noopener noreferrer" style="color: rgb(44\, 116\, 255)\; text-decoration: none\; font-size: 14px\; font-weight: bold\; user-select: auto\;" target="_blank">Rebekah Coffey</a></p></body></html>
LOCATION:1288 Boston Post Rd. Madison CT 06443
UID:e.2955.1446779
SEQUENCE:3
DTSTAMP:20260423T031505Z
URL:https://greatermysticchamberofcommercect.growthzoneapp.com/aiworkshop/Details/women-at-the-helm-committee-meeting-1713589?sourceTypeId=Hub
END:VEVENT
END:VCALENDAR
