BEGIN:VCALENDAR
VERSION:2.0
PRODID:-//ChamberMaster//Event Calendar 2.0//EN
METHOD:PUBLISH
X-PUBLISHED-TTL:P1H
REFRESH-INTERVAL:P1H
CALSCALE:GREGORIAN
BEGIN:VTIMEZONE
TZID:America/Montreal
BEGIN:DAYLIGHT
RRULE:FREQ=YEARLY;BYMONTH=3;BYDAY=2SU
DTSTART:20070101T000000
TZOFFSETFROM:-0500
TZOFFSETTO:-0400
TZNAME:Eastern Daylight Time
END:DAYLIGHT
BEGIN:STANDARD
RRULE:FREQ=YEARLY;BYMONTH=11;BYDAY=1SU
DTSTART:20070101T000000
TZOFFSETFROM:-0400
TZOFFSETTO:-0500
TZNAME:Eastern Standard Time
END:STANDARD
END:VTIMEZONE
BEGIN:VEVENT
DTSTART;TZID=America/Montreal:20260523T120000
DTEND;TZID=America/Montreal:20260523T160000
X-MICROSOFT-CDO-ALLDAYEVENT:FALSE
SUMMARY:Book Fair at Tox Brewing Co.
DESCRIPTION:Kick off summer with a drink in one hand and a new read in the other! We'll have the best beach reads for sale at Tox Brewing Co in New London.
X-ALT-DESC;FMTTYPE=text/html:<!DOCTYPE html><html><head><title></title></head><body aria-disabled="false"><p><meta charset="utf-8"></p><p><meta charset="utf-8"></p><div style="box-sizing: border-box\; clear: none\; grid-column: 3 / 7\; color: rgb(64\, 64\, 64)\; font-family: Roboto\, arial\, helvetica\, sans-serif\; font-size: 20.25px\; font-style: normal\; font-variant-ligatures: normal\; font-variant-caps: normal\; font-weight: 400\; letter-spacing: normal\; orphans: 2\; text-align: start\; text-indent: 0px\; text-transform: none\; widows: 2\; word-spacing: 0px\; -webkit-text-stroke-width: 0px\; white-space: normal\; text-decoration-thickness: initial\; text-decoration-style: initial\; text-decoration-color: initial\;"><div style="box-sizing: border-box\; display: flex\; flex-flow: column\;"><div style="box-sizing: border-box\; font-size: 18px\; margin-block-end: 0px\;"><meta charset="utf-8"><div style="box-sizing: border-box\; clear: none\; grid-column: 3 / 7\; color: rgb(64\, 64\, 64)\; font-family: Roboto\, arial\, helvetica\, sans-serif\; font-size: 20.25px\; font-style: normal\; font-variant-ligatures: normal\; font-variant-caps: normal\; font-weight: 400\; letter-spacing: normal\; orphans: 2\; text-align: start\; text-indent: 0px\; text-transform: none\; widows: 2\; word-spacing: 0px\; -webkit-text-stroke-width: 0px\; white-space: normal\; text-decoration-thickness: initial\; text-decoration-style: initial\; text-decoration-color: initial\;"><div style="box-sizing: border-box\; display: flex\; flex-flow: column\;"><div style="box-sizing: border-box\; font-size: 18px\; margin-block-end: 0px\;"><meta charset="utf-8"><meta charset="utf-8"><div style="box-sizing: border-box\; clear: none\; grid-column: 3 / 7\; color: rgb(64\, 64\, 64)\; font-family: Roboto\, arial\, helvetica\, sans-serif\; font-size: 20.25px\; font-style: normal\; font-variant-ligatures: normal\; font-variant-caps: normal\; font-weight: 400\; letter-spacing: normal\; orphans: 2\; text-align: start\; text-indent: 0px\; text-transform: none\; widows: 2\; word-spacing: 0px\; -webkit-text-stroke-width: 0px\; white-space: normal\; text-decoration-thickness: initial\; text-decoration-style: initial\; text-decoration-color: initial\;"><div style="box-sizing: border-box\; display: flex\; flex-flow: column\;"><div style="box-sizing: border-box\; font-size: 18px\; margin-block-end: 0px\;"><meta charset="utf-8"><div style="box-sizing: border-box\; clear: none\; grid-column: 3 / 7\; color: rgb(64\, 64\, 64)\; font-family: Roboto\, arial\, helvetica\, sans-serif\; font-size: 20.25px\; font-style: normal\; font-variant-ligatures: normal\; font-variant-caps: normal\; font-weight: 400\; letter-spacing: normal\; orphans: 2\; text-align: start\; text-indent: 0px\; text-transform: none\; widows: 2\; word-spacing: 0px\; -webkit-text-stroke-width: 0px\; white-space: normal\; text-decoration-thickness: initial\; text-decoration-style: initial\; text-decoration-color: initial\;"><div style="box-sizing: border-box\; display: flex\; flex-flow: column\;"><div style="box-sizing: border-box\; font-size: 18px\; margin-block-end: 0px\;"><meta charset="utf-8"><div style="box-sizing: border-box\; clear: none\; grid-column: 3 / 7\; color: rgb(64\, 64\, 64)\; font-family: Roboto\, arial\, helvetica\, sans-serif\; font-size: 20.25px\; font-style: normal\; font-variant-ligatures: normal\; font-variant-caps: normal\; font-weight: 400\; letter-spacing: normal\; orphans: 2\; text-align: start\; text-indent: 0px\; text-transform: none\; widows: 2\; word-spacing: 0px\; -webkit-text-stroke-width: 0px\; white-space: normal\; text-decoration-thickness: initial\; text-decoration-style: initial\; text-decoration-color: initial\;"><div style="box-sizing: border-box\; display: flex\; flex-flow: column\;"><div style="box-sizing: border-box\; font-size: 18px\; margin-block-end: 0px\;"><h4 style="box-sizing: border-box\; font-size: 24px\; font-weight: 700\; line-height: 1.6\; text-align: center\;"><strong fr-original-style="box-sizing: border-box\; font-weight: bolder\;" style="box-sizing: border-box\; font-weight: bolder\;">Kick off summer with a drink in one hand and a new read in the other! We&rsquo\;ll have the best beach reads for sale at Tox Brewing Co in New London.</strong></h4></div></div></div><div style="box-sizing: border-box\; grid-column: 8 / -1\; margin-block-start: 0px\; padding-inline-start: 0.5rem\; color: rgb(64\, 64\, 64)\; font-family: Roboto\, arial\, helvetica\, sans-serif\; font-size: 20.25px\; font-style: normal\; font-variant-ligatures: normal\; font-variant-caps: normal\; font-weight: 400\; letter-spacing: normal\; orphans: 2\; text-align: start\; text-indent: 0px\; text-transform: none\; widows: 2\; word-spacing: 0px\; -webkit-text-stroke-width: 0px\; white-space: normal\; text-decoration-thickness: initial\; text-decoration-style: initial\; text-decoration-color: initial\;"><div style="box-sizing: border-box\; display: block\; font-size: 16px\; inline-size: max-content\; margin-block-end: 10px\;"><br></div></div></div></div></div></div></div></div></div></div></div></div></div></div><div style="box-sizing: border-box\; grid-column: 8 / -1\; margin-block-start: 0px\; padding-inline-start: 0.5rem\; color: rgb(64\, 64\, 64)\; font-family: Roboto\, arial\, helvetica\, sans-serif\; font-size: 20.25px\; font-style: normal\; font-variant-ligatures: normal\; font-variant-caps: normal\; font-weight: 400\; letter-spacing: normal\; orphans: 2\; text-align: start\; text-indent: 0px\; text-transform: none\; widows: 2\; word-spacing: 0px\; -webkit-text-stroke-width: 0px\; white-space: normal\; text-decoration-thickness: initial\; text-decoration-style: initial\; text-decoration-color: initial\;"><br></div></body></html>
LOCATION:123 Bank Street New London CT 06320
UID:e.2955.1446810
SEQUENCE:3
DTSTAMP:20260423T031119Z
URL:https://greatermysticchamberofcommercect.growthzoneapp.com/aiworkshop/Details/book-fair-at-tox-brewing-co-1713620?sourceTypeId=Hub
END:VEVENT
END:VCALENDAR
