BEGIN:VCALENDAR
VERSION:2.0
PRODID:-//ChamberMaster//Event Calendar 2.0//EN
METHOD:PUBLISH
X-PUBLISHED-TTL:P1H
REFRESH-INTERVAL:P1H
CALSCALE:GREGORIAN
BEGIN:VTIMEZONE
TZID:America/Montreal
BEGIN:DAYLIGHT
RRULE:FREQ=YEARLY;BYMONTH=3;BYDAY=2SU
DTSTART:20070101T000000
TZOFFSETFROM:-0500
TZOFFSETTO:-0400
TZNAME:Eastern Daylight Time
END:DAYLIGHT
BEGIN:STANDARD
RRULE:FREQ=YEARLY;BYMONTH=11;BYDAY=1SU
DTSTART:20070101T000000
TZOFFSETFROM:-0400
TZOFFSETTO:-0500
TZNAME:Eastern Standard Time
END:STANDARD
END:VTIMEZONE
BEGIN:VEVENT
DTSTART;TZID=America/Montreal:20260422T160000
DTEND;TZID=America/Montreal:20260422T170000
X-MICROSOFT-CDO-ALLDAYEVENT:FALSE
SUMMARY:Dime Bank Career Fair
DESCRIPTION:Want to experience what makes community banking so great? Join our community! Dime Bank is hosting a career fair on Wednesday\, April 22 from 4:00pm - 7:00pm at our recently renovated corporate office located at 290 Salem Turnpike\, Norwich\, CT. We are looking to fill current openings including teller roles\, universal bankers\, branch managers\, and support-office roles such as a call center specialist\, system administrator\, and summer interns! To view all current openings\, please visit https://www.dime-bank.com/about-us/about-dime-bank/careers To pre-register\, please visit https://www.surveymonkey.com/r/5CR7HHN Walk-ins are also welcome!
X-ALT-DESC;FMTTYPE=text/html:<!DOCTYPE html><html><head><title></title></head><body aria-disabled="false"><p>Want to experience what makes community banking so great? Join our community! Dime Bank is hosting a career fair on Wednesday\, April 22 from 4:00pm - 7:00pm at our recently renovated corporate office located at 290 Salem Turnpike\, Norwich\, CT. We are looking to fill current openings including teller roles\, universal bankers\, branch managers\, and support-office roles such as a call center specialist\, system administrator\, and summer interns! To view all current openings\, please visit <a fr-original-style="" href="https://www.dime-bank.com/about-us/about-dime-bank/careers" rel="noopener noreferrer" style="user-select: auto\;" target="_blank">https://www.dime-bank.com/about-us/about-dime-bank/careers</a> To pre-register\, please visit <a fr-original-style="" href="https://www.surveymonkey.com/r/5CR7HHN" rel="noopener noreferrer" style="user-select: auto\;" target="_blank">https://www.surveymonkey.com/r/5CR7HHN</a> Walk-ins are also welcome!</p></body></html>
LOCATION:290 Salem Turnpike Norwich CT 06360
UID:e.2955.1446293
SEQUENCE:3
DTSTAMP:20260423T031145Z
URL:https://greatermysticchamberofcommercect.growthzoneapp.com/aiworkshop/Details/dime-bank-career-fair-1713024?sourceTypeId=Hub
END:VEVENT
END:VCALENDAR
